BEGIN:VCALENDAR
VERSION:2.0
PRODID:-//IP.Board Calendar 4.3.3//EN
METHOD:PUBLISH
CALSCALE:GREGORIAN
X-WR-CALNAME:VS Community
BEGIN:VTIMEZONE
TZID:Europe/London
TZURL:http://tzurl.org/zoneinfo/Europe/London
X-LIC-LOCATION:Europe/London
BEGIN:DAYLIGHT
TZOFFSETFROM:+0000
TZOFFSETTO:+0100
TZNAME:BST
DTSTART:20080330T020000Z
RRULE:FREQ=YEARLY;BYMONTH=3;BYDAY=-1SU
END:DAYLIGHT
BEGIN:STANDARD
TZOFFSETFROM:+0100
TZOFFSETTO:+0000
TZNAME:GMT
DTSTART:20081026T020000Z
RRULE:FREQ=YEARLY;BYMONTH=10;BYDAY=-1SU
END:STANDARD
END:VTIMEZONE
BEGIN:VEVENT
SUMMARY:Anniversario della scomparsa di Vittorio Chiusano
DTSTAMP:20080731T163158Z
SEQUENCE:1
UID:130-2-5057af645d1240ac1e6aa73e8a706b19@www.vecchiasignora.com
ORGANIZER;CN="mercimichel":noreply@vecchiasignora.com
DESCRIPTION:Vittorio Caissotti di Chiusano (Torino\, 5 agosto 1928 – T
	orino\, 31 luglio 2003)
DTSTART:20080731T020000Z
RRULE:FREQ=yearly;INTERVAL=1;UNTIL=20230731T20000Z
END:VEVENT
END:VCALENDAR
