BEGIN:VCALENDAR
VERSION:2.0
PRODID:-//IP.Board Calendar 4.3.3//EN
METHOD:PUBLISH
CALSCALE:GREGORIAN
X-WR-CALNAME:VS Community
BEGIN:VTIMEZONE
TZID:Europe/London
TZURL:http://tzurl.org/zoneinfo/Europe/London
X-LIC-LOCATION:Europe/London
BEGIN:DAYLIGHT
TZOFFSETFROM:+0000
TZOFFSETTO:+0100
TZNAME:BST
DTSTART:20070325T020000Z
RRULE:FREQ=YEARLY;BYMONTH=3;BYDAY=-1SU
END:DAYLIGHT
BEGIN:STANDARD
TZOFFSETFROM:+0100
TZOFFSETTO:+0000
TZNAME:GMT
DTSTART:20071028T020000Z
RRULE:FREQ=YEARLY;BYMONTH=10;BYDAY=-1SU
END:STANDARD
END:VTIMEZONE
BEGIN:VEVENT
SUMMARY:Vittoria Coppa delle Coppe 1983/84
DTSTAMP:20071226T225110Z
SEQUENCE:1
UID:57-2-5057af645d1240ac1e6aa73e8a706b19@www.vecchiasignora.com
ORGANIZER;CN="mercimichel":noreply@vecchiasignora.com
DESCRIPTION:\nCoppa delle Coppe 1983-1984 - Finale\nBasilea\, mercoledì
	 16 maggio 1984\nPORTO-JUVENTUS 1-2\nMARCATORI: Boniek 13\, Sousa 29\, Vig
	nola 41\nPORTO: Zè Beto\, Joao Pinto\, Eduardo Luis (Costa 82)\, Magalhae
	s (Walsh 65)\, Eurico\, Lima Pereira\, Frasco\, Sousa\, Gomes\, Jaime Pach
	eco\, Vermelinho. - Allenatore Pedroto\nJUVENTUS: Tacconi\, Gentile\, Cabr
	ini\, Bonini\, Brio\, Scirea\, Vignola (Caricola 89)\, Tardelli\, Rossi\, 
	Platini\, Boniek. - Allenatore Trapattoni\nARBITRO: Prokop (Germania Est)\
	nNOTE: Vinta 1ª Coppa delle Coppe\n \nda Juworld.net\n
DTSTART:20070516T020000Z
RRULE:FREQ=yearly;INTERVAL=1;UNTIL=20221226T10000Z
END:VEVENT
END:VCALENDAR
