BEGIN:VCALENDAR
VERSION:2.0
PRODID:-//IP.Board Calendar 4.3.3//EN
METHOD:PUBLISH
CALSCALE:GREGORIAN
X-WR-CALNAME:VS Community
BEGIN:VTIMEZONE
TZID:Europe/London
TZURL:http://tzurl.org/zoneinfo/Europe/London
X-LIC-LOCATION:Europe/London
BEGIN:DAYLIGHT
TZOFFSETFROM:+0000
TZOFFSETTO:+0100
TZNAME:BST
DTSTART:20140330T020000Z
RRULE:FREQ=YEARLY;BYMONTH=3;BYDAY=-1SU
END:DAYLIGHT
BEGIN:STANDARD
TZOFFSETFROM:+0100
TZOFFSETTO:+0000
TZNAME:GMT
DTSTART:20141026T020000Z
RRULE:FREQ=YEARLY;BYMONTH=10;BYDAY=-1SU
END:STANDARD
END:VTIMEZONE
BEGIN:VEVENT
SUMMARY:Alvaro Morata - Compleanno
DTSTAMP:20140720T141558Z
SEQUENCE:1
UID:572-2-5057af645d1240ac1e6aa73e8a706b19@www.vecchiasignora.com
ORGANIZER;CN="*38allori*":noreply@vecchiasignora.com
DESCRIPTION:Álvaro Borja Morata Martín (Madrid\, 23 ottobre 1992)
DTSTART;VALUE=DATE:20141023
END:VEVENT
END:VCALENDAR
