BEGIN:VCALENDAR
VERSION:2.0
PRODID:-//IP.Board Calendar 4.3.3//EN
METHOD:PUBLISH
CALSCALE:GREGORIAN
X-WR-CALNAME:VS Community
BEGIN:VTIMEZONE
TZID:Europe/London
TZURL:http://tzurl.org/zoneinfo/Europe/London
X-LIC-LOCATION:Europe/London
BEGIN:DAYLIGHT
TZOFFSETFROM:+0000
TZOFFSETTO:+0100
TZNAME:BST
DTSTART:20090329T020000Z
RRULE:FREQ=YEARLY;BYMONTH=3;BYDAY=-1SU
END:DAYLIGHT
BEGIN:STANDARD
TZOFFSETFROM:+0100
TZOFFSETTO:+0000
TZNAME:GMT
DTSTART:20091025T020000Z
RRULE:FREQ=YEARLY;BYMONTH=10;BYDAY=-1SU
END:STANDARD
END:VTIMEZONE
BEGIN:VEVENT
SUMMARY:Vittoria Supercoppa Europea 1996/97
DTSTAMP:20090203T201352Z
SEQUENCE:1
UID:68-2-5057af645d1240ac1e6aa73e8a706b19@www.vecchiasignora.com
ORGANIZER;CN="mercimichel":noreply@vecchiasignora.com
DESCRIPTION:\nSupercoppa Europea 1996-1997 - Finale\, andata\nParigi\, m
	ercoledì 15 gennaio 1997\nPARIS SAINT GERMAIN-JUVENTUS 1-6\nMARCATORI: Po
	rrini 4\, Padovano 22\, Ferrara 35\, Padovano 40\, Raì rigore 52\, Lombar
	do 82\, Amoruso 88\nPARIS SAINT GERMAIN: Lama\, Algerino (Kenedy 34)\, N'G
	otty\, Le Guen\, Domi (Leonardo 55)\, Leroy\, Fournier\, Raì\, Guerin\, D
	ely Valdes (Pouget 62)\, Loko. - Allenatore Ricardo\nJUVENTUS: Peruzzi\, T
	orricelli\, Ferrara (Iuliano 73)\, Porrini\, Pessotto\, Di Livio\, Descham
	ps\, Zidane\, Tacchinardi (Lombardo 63)\, Del Piero\, Padovano (Amoruso 73
	). - Allenatore Lippi\nARBITRO: Levnikov (Russia)\nESPULSIONI: Fournier (P
	aris Saint Germain)\n \nSupercoppa Europea 1996-1997 - Finale\, ritorno\n
	Palermo\, mercoledì 5 febbraio 1997\nJUVENTUS-PARIS SAINT GERMAIN 3-1\nMA
	RCATORI: Del Piero 36\, Raì rigore 64\, Del Piero 70\, Vieri C. 90+3\nJUV
	ENTUS: Peruzzi\, Torricelli (Porrini 72)\, Ferrara\, Montero\, Pessotto\, 
	Di Livio\, Tacchinardi (Lombardo 68)\, Zidane\, Jugovic\, Del Piero\, Pado
	vano (Vieri 68). - Allenatore Lippi\nPARIS SAINT GERMAIN: Lama\, Algerino\
	, Le Guen\, Domi\, Kenedy\, Guerin (Leroy 78)\, Cauet\, Raì\, Leonardo (A
	llou 81)\, Dely Valdes\, Loko (Calenda 90+2). - Allenatore Ricardo\nARBITR
	O: Muhmenthaler (Svizzera)\nNOTE: Vinta 2ª Supercoppa Europea. Partita gi
	ocata a Palermo per decisione della società\n \nda juworld.net\n
DTSTART:20090205T010000Z
RRULE:FREQ=yearly;INTERVAL=1;UNTIL=20221226T10000Z
END:VEVENT
END:VCALENDAR
