BEGIN:VCALENDAR
VERSION:2.0
PRODID:-//IP.Board Calendar 4.3.3//EN
METHOD:PUBLISH
CALSCALE:GREGORIAN
X-WR-CALNAME:VS Community
BEGIN:VTIMEZONE
TZID:Europe/London
TZURL:http://tzurl.org/zoneinfo/Europe/London
X-LIC-LOCATION:Europe/London
BEGIN:DAYLIGHT
TZOFFSETFROM:+0000
TZOFFSETTO:+0100
TZNAME:BST
DTSTART:20070325T020000Z
RRULE:FREQ=YEARLY;BYMONTH=3;BYDAY=-1SU
END:DAYLIGHT
BEGIN:STANDARD
TZOFFSETFROM:+0100
TZOFFSETTO:+0000
TZNAME:GMT
DTSTART:20071028T020000Z
RRULE:FREQ=YEARLY;BYMONTH=10;BYDAY=-1SU
END:STANDARD
END:VTIMEZONE
BEGIN:VEVENT
SUMMARY:Anniversario Milan-Juve 1-6
DTSTAMP:20071226T233250Z
SEQUENCE:1
UID:71-2-5057af645d1240ac1e6aa73e8a706b19@www.vecchiasignora.com
ORGANIZER;CN="mercimichel":noreply@vecchiasignora.com
DESCRIPTION:\nStagione: 1996-1997\nData: domenica 6 aprile 1997\nSede: M
	ilano\n \nAllenatore: Lippi\nCompetizione: Campionato\nTurno: 9 ritorno\
	n \nPartita: Milan-Juventus 1-6\n \nArbitro: Braschi\n \nMarcatori:\n0-
	1   Jugovic 19\n0-2   Zidane rigore 31\n0-3   Jugovic 50\n0-4   Vieri C. 7
	0\n0-5   Amoruso 74\n1-5   Simone 77\n1-6   Vieri C. 82\n \nda Juworld.ne
	t\n
DTSTART:20070406T020000Z
RRULE:FREQ=yearly;INTERVAL=1;UNTIL=20221226T10000Z
END:VEVENT
END:VCALENDAR
