BEGIN:VCALENDAR
VERSION:2.0
PRODID:-//IP.Board Calendar 4.3.3//EN
METHOD:PUBLISH
CALSCALE:GREGORIAN
X-WR-CALNAME:VS Community
BEGIN:VTIMEZONE
TZID:Europe/London
TZURL:http://tzurl.org/zoneinfo/Europe/London
X-LIC-LOCATION:Europe/London
BEGIN:DAYLIGHT
TZOFFSETFROM:+0000
TZOFFSETTO:+0100
TZNAME:BST
DTSTART:20170326T020000Z
RRULE:FREQ=YEARLY;BYMONTH=3;BYDAY=-1SU
END:DAYLIGHT
BEGIN:STANDARD
TZOFFSETFROM:+0100
TZOFFSETTO:+0000
TZNAME:GMT
DTSTART:20171029T020000Z
RRULE:FREQ=YEARLY;BYMONTH=10;BYDAY=-1SU
END:STANDARD
END:VTIMEZONE
BEGIN:VEVENT
SUMMARY:Rodrigo Bentancur - Compleanno
DTSTAMP:20170718T154610Z
SEQUENCE:0
UID:806-2-5057af645d1240ac1e6aa73e8a706b19@www.vecchiasignora.com
ORGANIZER;CN="mercimichel":noreply@vecchiasignora.com
DESCRIPTION:Rodrigo Bentancur Colmán (Nueva Helvecia\, 25 giugno 1997)
DTSTART;VALUE=DATE:20170625
RRULE:FREQ=yearly;INTERVAL=1;UNTIL=20240731T00000Z
END:VEVENT
END:VCALENDAR
